Workbook

Sheet Menu
C2: AKREDITASI PROGRAM STUDI
C3: LEMBAGA AKREDITASI MANDIRI EKONOMI, MANAJEMEN, AKUNTANSI DAN BISNIS
C5: Pilih Program: | D5: Program Diploma 3
B8: ASESMEN KECUKUPAN
B9: (Penilaian Individual)
B10: Nama Asesor | E10: Perguruan Tinggi
B12: Kota Penilaian | E12: Unit Pengelola Program Studi
B14: Tanggal Penilaian | E14: Program Studi
E16: Kode Panel
E18: TS | G18: /
E19: TS = Tahun akademik penuh terakhir saat pengajuan usulan akreditasi

Sheet Kertas Kerja
A1: FORMULIR PENILAIAN ASESMEN KECUKUPAN AKREDITASI PROGRAM STUDI
A2: LEMBAGA AKREDITASI MANDIRI EKONOMI, MANAJEMEN, BISNIS DAN AKUNTANSI
B4: Perguruan Tinggi | C4: :
B5: Fakultas | C5: :
B6: Departemen | C6: :
B7: Program Studi | C7: :
B8: Tanggal Asesmen Kecukupan | C8: :
A10: No. | B10: Kriteria & Deskripsi | C10: Dimensi | D10: Indikator | E10: Evaluasi Asesor
E11: Status*) | G11: Deskripsi Penilaian Asesor Berdasarkan Data dan Informasi dari DED dan DKPS | H11: Standar Pendidikan Tinggi yang ditetapkan oleh Perguruan Tinggi sesuai atau melampaui**) | J11: Tingkat Daya Saing
E12: Meet the Indicator | F12: Not Meet the Indicator | H12: SN-Dikti | I12: Target pada Rencana Strategis | J12: Per Indikator | K12: Per Dimensi
A13: 1.a.1 | B13: VISI, MISI, TUJUAN DAN STRATEGI Unit Pengelola Program Studi menjelaskan proses dalam menentukan visi, misi, tujuan dan pengembangan strategi, mengemban misi, mencapai visi dan tujuan strategis, serta proses dalam mengendalikan pelaksanaan strategi program studi. Diantara hal yang menjadi perhatian adalah bagaimana Unit Pengelola Program Studi akan berkontribusi secara berarti untuk memajukan perekonomian dan bisnis nasional serta profesi ekonom, manajemen dan akuntansi melalui pelaksanaan Tridharma Perguruan Tinggi. Unit Pengelola Program Studi secara jelas merumuskan visi, misi, tujuan dan strategi Unit Pengelola Program Studi untuk mewujudkan visi keilmuan program studi, serta menerangkan bagaimana keterlibatan seluruh pemangku kepentingan dalam perumusan tersebut. Visi, misi, tujuan dan strategi menunjukkan kekhasan Unit Pengelola Program Studi, maka dari itu keterlibatan pemangku kepentingan baik internal maupun eksternal pada saat penyusunan visi, misi, tujuan dan strategi menjadi sangat penting. | C13: Visi | D13: Visi mendeskripsikan aspirasi program studi, arah yang dituju dan profil program studi di masa yang akan datang secara jelas, realistis, kredibel dan dilakukan peninjauan ataupun evaluasi untuk menjamin implementasi visi secara efisien dan efektif dengan memerhatikan arah perkembangan dan kondisi ekonomi dan bisnis.
A14: 1.a.2 | D14: Visi diharapkan mampu menumbuhkan komitmen dan energi, memberi makna, menjadi standar kinerja yang menjembatani kondisi ekonomi dan bisnis masa sekarang dan masa yang akan datang serta disusun, ditetapkan, terdokumentasi dengan melibatkan seluruh pemangku kepentingan.
A15: 1.b.1 | C15: Misi | D15: Misi menguraikan keilmuan yang disampaikan, dikembangkan dan diterapkan pada kegiatan Tridharma Pendidikan Tinggi serta menjelaskan luaran dan dampak ekonomi dan bisnis, pihak-pihak yang dilayani dan mendapat manfaat, arena berkarya, nilai-nilai dan keyakinan yang dijadikan dasar dalam berkarya.
A16: 1.b.2 | D16: Misi mendeskripsikan secara jelas keunikan keberadaan program studi dalam mencapai visi serta menunjukkan apa yang akan dilakukan, secara ringkas, mudah diingat, mutakhir dan realistis yang disusun, ditetapkan, terdokumentasi serta melibatkan seluruh pemangku kepentingan dengan melakukan peninjauan dan evaluasi agar dapat menjembatani kondisi ekonomi dan bisnis masa sekarang dan masa yang akan datang.
A17: 1.c.1 | C17: Tujuan | D17: Tujuan diturunkan dari visi dan misi dan dievaluasi serta ditinjau ulang secara berkala agar sesuai dengan arah perkembangan ekonomi dan bisnis masa sekarang dan masa yang akan datang.
A18: 1.c.2 | D18: Sasaran diturunkan dari tujuan yang dinyatakan secara spesifik, terukur, hal yang akan dicapai, waktu pencapaiannya dan keterlibatan pemangku kepentingan.
A19: 1.d.1 | C19: Strategi | D19: Strategi mendeskripsikan proses dalam mengemban misi dan mewujudkan visi, melalui pencapaian tujuan dan sasaran strategisnya yang memiliki dampak terhadap daya saing dengan memanfaatkan sumber-sumber yang dimiliki secara efektif dan efisien untuk untuk menjawab arah perkembangan ekonomi dan bisnis baik nasional dan global.
A20: 1.d.2 | D20: Strategi mendeskripsikan penyusunan dan penetapan strategi dengan melibatkan seluruh pemangku kepentingan serta peninjauan dan evaluasi terhadap implementasi strategi yang efektif dan efisien.
A21: 2.a.1 | B21: TATA KELOLA, TATA PAMONG DAN KERJASAMA Unit Pengelola Program Studi secara jelas menerangkan bagaimana kepemimpinan program studi telah merancang dan melaksanakan tata pamong dan tata kelola organisasi yang bersifat transformasional dan partisipatif. Unit Pengelola Program Studi juga menjelaskan bagaimana kepemimpinan organisasi telah membangun dan melaksanakan kerjasama berkelanjutan dengan mitranya. | C21: Tata Pamong | D21: Unit Pengelola Program Studi mendeskripsikan proses, struktur dan tradisi dalam menjalankan tugas dan menggunakan wewenangnya untuk mengemban misi, mewujudkan visi dan mencapai tujuan serta sasaran strategisnya yang didukung perilaku etis dan berintegritas para pengelola, tenaga kependidikan, mahasiswa dan mitra Unit Pengelola Program Studi.
A22: 2.a.2 | D22: Unit Pengelola Program Studi mendeskripsikan peran, tanggung jawab, wewenang dan proses pengambilan keputusan untuk pencapaian efektivitas organisasi berdasarkan visi, misi, tujuan dan strategi serta menggunakan lima pilar sistem tata pamong, yang mencakup: kredibel, transparan, akuntabel, bertanggung jawab dan adil.
A23: 2.b.1 | C23: Tata Kelola | D23: Unit Pengelola Program Studi mendeskripsikan perencanaan, pengorganisasian, pengarahan dan pengendalian sumber daya agar program studi dapat menjalankan tugas dan kewajibannya secara efektif dan efisien serta akuntabel, bertanggung jawab, transparan, adil dan terhindar dari konflik kepentingan yang ditunjukkan dengan hasil evaluasi kepuasan para pemangku kepentingan terhadap keterlaksanaan dan efektivitas tata kelola.
A24: 2.b.2 | D24: Unit Pengelola Program Studi mendeskripsikan sistem manajemen mutu internal yang diimplementasikan secara konsisten, efektif dan efisien serta dilaporkan secara berkala untuk tindak lanjut peningkatan mutu pendidikan tinggi. ***)
A25: 2.c.1 | C25: Kerjasama | D25: Unit Pengelola Program Studi menjelaskan kegiatan dengan para mitranya dan hasil dari kegiatan tersebut.
A26: 2.c.2 | D26: Unit Pengelola Program Studi menjelaskan keselarasan dan konsistensi antara kerja sama, visi, misi, tujuan dan aspirasi para pemangku kepentingan dengan memperhatikan isu ekonomi dan bisnis yang berkembang untuk memberi dampak positif kepada para pemangku kepentingan dan masyarakat luas.
A27: 2.c..3 | D27: Unit Pengelola Program Studi menjelaskan cakupan kerja sama bidang Ilmu EMBA dan dampaknya. Kegiatan kerja sama program studi dapat mencakup bidang pendidikan, penelitian, dan/atau pengabdian kepada masyarakat dengan memperhatikan isu ekonomi dan bisnis yang berkembang di tingkat lokal, nasional, dan/atau internasional.
A28: 2.c.4 | D28: Unit Pengelola Program Studi melakukan evaluasi kerjasama secara berkala dan tindak lanjut dengan mempertimbangkan dampak internal dan eksternal kerjasama.
A29: 3.a.1 | B29: MAHASISWA Unit Pengelola Program Studi memberikan informasi yang dapat dipercaya tentang kinerja program studi di bidang kemahasiswaan, pengelolaan mahasiswa, kebijakan dan prosedur penerimaan mahasiswa, layanan akademik, kinerja akademik mahasiswa, layanan kesejahteraan mahasiswa dan pengembangan karir mahasiswa. Keterlibatan mahasiswa di Lembaga pemerintah/BUMN, dunia usaha, asosiasi pengusaha dan profesi dapat meningkatkan pengetahuan dan keterampilan praktis di dunia kerja dan bisnis. | C29: Kebijakan dan Prosedur Penerimaan Mahasiswa | D29: Unit Pengelola Program Studi menjelaskan kebijakan dan prosedur penerimaan mahasiswa baru, mahasiswa asing dan transfer kredit secara transparan dan selaras dengan visi, misi, tujuan, strategi, nilai-nilai dan profil lulusan yang diharapkan serta efektivitas dan konsistensi pelaksanaannya.
A30: 3.a.2 | D30: Unit Pengelola Program Studi menjelaskan sistem penerimaan mahasiswa baru meliputi kriteria dan persyaratan yang bersifat inklusif dengan mempertimbangkan asas pemerataan dan rasa keadilan.
A31: 3.b.1 | C31: Layanan Akademik Mahasiswa | D31: Unit Pengelola Program Studi menyiapkan, menjelaskan dan mendukung mahasiswa untuk menjamin kemajuan akademik dan mendorong keberhasilan mahasiswa dalam penyelesaian program.
A32: 3.b.2 | D32: Unit Pengelola Program Studi mendeskripsikan kebijakan, proses dan upaya pemenuhan standar kinerja yang konsisten dengan tujuan pembelajaran program studi, dengan: a) mempersiapkan mahasiswa agar mampu menggunakan modalitas dan pedagogi program studi; b) memberikan peringatan dini terkait masalah retensi dan perkembangan studi mahasiswa dan mengeluarkan mahasiswa dari program studi, jika perlu; c) memfasilitasi keterlibatan mahasiswa dalam semua aktivitas pembelajaran baik di kampus ataupun di luar kampus (Lembaga pemerintah/BUMN, dunia usaha, asosiasi pengusaha dan profesi) sebagai upaya meningkatkan hardskill dan softskill bidang ilmu EMBA. d) memfasilitasi kegiatan Unit Kegiatan Mahasiswa (UKM) yang sesuai dengan visi, misi, tujuan dan strategi.
A33: 3.c.1 | C33: Kinerja Akademik Mahasiswa | D33: Unit Pengelola Program Studi mendeskripsikan hasil kegiatan mahasiswa mengikuti program profesi, sertifikasi dan/atau lisensi bidang ilmu EMBA untuk meningkatkan kualitas lulusan yang sesuai dengan profil lulusan program studi.
A34: 3.c.2 | D34: Unit Pengelola Program Studi mendeskripsikan evaluasi yang dilakukan untuk mengetahui perkembangan kinerja akademik dan kompetensi mahasiswa agar durasi pengerjaan tugas akhir sesuai dengan target yang telah ditetapkan serta tindak lanjut yang diperlukan dengan melibatkan dosen dalam kegiatan pengembangan akademik.
A35: 3.d.1 | C35: Kesejahteraan Mahasiswa | D35: Unit Pengelola Program Studi menjelaskan upaya ketersediaan untuk kesejahteraan mental dan fisik mahasiswa serta akses kepada mahasiswa untuk mendapatkan dan layanan kesehatan fisik dan layanan konseling.
A36: 3.d.2 | D36: Unit Pengelola Program Studi mendeskripsikan fasilitas dan proses belajar yang memerhatikan kesejahteraan mahasiswa.
A37: 3.e.1 | C37: Pengembangan Karir Mahasiswa | D37: Unit Pengelola Program Studi mendeskripsikan program dan menyediakan fasilitas pengembangan karir dan kompetensi mahasiswa yang konsisten dengan visi, misi dan profil lulusan yang diharapkan sesuai dengan arah perkembangan ekonomi dan bisnis masa yang akan datang.
A38: 3.e.2 | D38: Unit Pengelola Program Studi memfasilitasi interaksi mahasiswa dengan sesama mahasiswa, dosen, alumni dan profesional dalam kegiatan akademik dan non-akademik untuk pengembangan kompetensi dan karir mahasiswa.
A39: 4.a.1 | B39: SUMBER DAYA MANUSIA Unit Pengelola Program Studi menjelaskan kemampuannya untuk memenuhi kebutuhan akan dosen dan tenaga kependidikan secara kuantitatif dan kualitatif sesuai dengan visi, misi, tujuan dan strategi Unit Pengelola Program Studi. | C39: Kecukupan dan Kualifikasi Dosen | D39: Unit Pengelola Program Studi menugaskan dosen tetap dan dosen tidak tetap dengan jumlah dan kualifikasi yang sesuai dengan visi, misi, tujuan dan strategi serta memenuhi aturan SN-Dikti. ***)
A40: 4.a.2 | D40: Dosen secara kolektif dan individual mendeskripsikan keterlibatan akademik dan profesional secara signifikan dan memperkuat modal intelektual yang diperlukan untuk mendukung hasil berkualitas tinggi yang konsisten dengan visi, misi, tujuan dan strategi.
A41: 4.a.3 | C41: Pengelolaan Dosen | D41: Unit Pengelola Program Studi mendeskripsikan proses yang terdokumentasi dan efektif untuk memfasilitasi human resouce planning, rencana dan implementasi pendidikan, pelatihan dan pengembangan dosen untuk meningkatkan kualifikasi dan kinerja dosen sesuai dengan visi dan misi serta arah perkembangan ekonomi dan bisnis baik di tingkat nasional maupun global.
A42: 4.a.4 | D42: Unit Pengelola Program studi mendeskripsikan mekanisme dan prosedur dalam pengembangan karir akademik, keikutsertaan sertifikasi profesional dosen dalam bidang EMBA dan sesuai dengan visi, misi, tujuan dan strategi.
A43: 4.a.5 | D43: Unit Pengelola Program Studi mendeskripsikan pengelolaan dosen secara sistematis yang memberikan tanggung jawab kepada setiap dosen untuk memenuhi visi dan misi program studi dan menetapkan harapan yang realistis untuk setiap dosen. ***)
A44: 4.a.6 | D44: Unit Pengelola Program Studi mendeskripsikan proses evaluasi, promosi dan penghargaan dosen yang dikomunikasikan kepada dosen dengan jelas dan sistematis untuk mendukung visi, misi, tujuan dan strategi.
A45: 4.b.1 | C45: Kecukupan dan Kualifikasi Tenaga Kependidikan | D45: Unit Pengelola Program studi mendeskripsikan jumlah tenaga kependidikan yang sesuai dengan visi, misi, tujuan dan strategi serta memenuhi aturan SN-Dikti serta kualifikasi dan sertifikasi tenaga kependidikan yang sesuai dengan kebutuhan layanan program studi dalam melaksanakan kegiatan akademik dan pengembangan program studi.
A46: 4.b.2 | C46: Pengembangan Tenaga Kependidikan | D46: Unit Pengelola Program Studi mendeskripsikan program pengembangan kompetensi tenaga kependidikan melalui pendidikan dan pelatihan, untuk meningkatkan kualifikasi dan kinerja mereka sesuai dengan visi, misi, tujuan dan strategi.
A47: 4.b.3 | D47: Unit Pengelola Program Studi mendeskripsikan mekanisme dan prosedur pengembangan karir akademik dan sertifikasi profesional bagi tenaga kependidikan sesuai dengan visi, misi, tujuan dan strategi.
A48: 5.a.1 | B48: KEUANGAN, SARANA DAN PRASARANA Unit Pengelola Program Studi mampu mengelola keuangan, sarana dan prasarana untuk mendukung keberlanjutan program studi dalam menyediakan lingkungan belajar dan kerja yang berkualitas yang diperlukan bagi para mahasiswa, dosen dan tenaga pendidikan untuk sukses dan berkinerja tinggi sesuai dengan visi, misi, tujuan dan strategi. | C48: Keuangan | D48: Unit Pengelola Program Studi menjelaskan perencanaan, pengeluaran dan pengelolaan sumber daya keuangan untuk mendukung, mempertahankan, dan meningkatkan kualitas layanan program studi; memenuhi kebutuhan operasional pendidikan, penelitian dan pengabdian kepada masyarakat serta investasi yang selaras dengan visi, misi, tujuan dan strategi.
A49: 5.a.2 | D49: Unit Pengelola Program Studi menjelaskan usaha-usaha yang dilakukan untuk menjamin keberlanjutan sumber daya keuangan dalam mencapai visi, misi, tujuan dan strategi.
A50: 5.b.1 | C50: Sarana dan Prasarana | D50: Unit Pengelola Program Studi menjelaskan penyediaan dan pengelolaan sarana dan prasarana fisik dan virtual yang dapat dimanfaatkan oleh mahasiswa dan dosen untuk kegiatan pendidikan, penelitian, pengabdian kepada masyarakat dan oleh tenaga kependidikan untuk mendukung kegiatan pendidikan, penelitian dan pengabdian kepada masyarakat.
A51: 5.b.2 | D51: Unit Pengelola Program Studi menjelaskan kecukupan dan rencana pengembangan sarana dan prasarana untuk melayani mahasiswa, dosen dan tenaga kependidikan dengan merujuk pada SN-Dikti dan selaras dengan visi, misi, tujuan dan strategi.
A52: 6.a.1 | B52: PENDIDIKAN Unit Pengelola Program Studi menjelaskan proses agar mahasiswa memperoleh pengalaman belajar, baik didalam ataupun diluar kampus, dapat pula di lembaga pemerintah, industri atau perusahaan untuk mendapatkan dan mengembangkan kompetensi yang relevan dengan kebutuhan para pemangku kepentingan dan selaras dengan visi dan misi Unit Pengelola Program Studi. Unit Pengelola Program Studi menjamin bahwa semua mahasiswa memiliki kesempatan yang sama untuk mendapatkan pembelajaran yang sesuai dengan disiplin ilmu yang ditawarkan oleh Unit Pengelola Program Studi, dengan menggunakan metoda pembelajaran yang dapat mendukung mahasiswa mencapai hasil belajar yang diharapkan. | C52: Kurikulum | D52: Kurikulum program studi mendeskripsikan materi pembelajaran yang mutakhir dan relevan dengan kebutuhan ekonomi dan bisnis masa depan, memiliki perspektif global, sesuai dengan visi, misi, tujuan, strategi dan capaian pembelajaran serta dievaluasi dan dikembangkan agar sesuai dan relevan dengan perkembangan ilmu pengetahuan, praktik dan tantangan-tantangan di masa yang akan datang dengan melibatkan pemangku kepentingan.
A53: 6.a.2 | D53: Implementasi kurikulum menjamin akuisisi dan pengembangan kompetensi mahasiswa, memfasilitasi keterlibatan aktif mahasiswa dalam proses pembelajaran, dan interaksi produktif mahasiswa-mahasiswa dan mahasiswa-dosen untuk mencapai tujuan pembelajaran.
A54: 6.b.1 | C54: Jaminan Pembelajaran | D54: Unit Pengelola Program Studi mendokumentasikan proses jaminan pembelajaran dengan baik yang sesuai dengan profil lulusan, kompetensi lulusan dan capaian pembelajaran yang telah ditetapkan serta selaras dengan visi, misi, tujuan dan strategi.
A55: 6.b.2 | D55: Unit Pengelola Program Studi menyusun peta kurikulum untuk menjamin struktur mata kuliah dan kegiatan pembelajaran konsisten dan relevan dengan capaian pembelajaran dan profil lulusan yang diharapkan serta selaras dengan visi, misi, tujuan dan strategi.
A56: 6.b.3 | D56: Unit Pengelola Program Studi mendeskripsikan pedoman standar pemenuhan capaian pembelajaran dan mengembangkan instrumen yang valid dan handal dengan metode yang relevan untuk mengukur capaian pembelajaran serta menetapkan intervensi untuk perbaikan kualitas pembelajaran berdasar tingkat pemenuhan capaian pembelajaran serta masukan dari para pemangku kepentingan.
A57: 6.b.4 | D57: Unit Pengelola Program Studi mendeskripsikan hasil evaluasi pengukuran capaian pembelajaran mahasiswa dan tindak lanjut yang ditetapkan agar kegiatan dan proses pembelajaran konsisten dan relevan dengan capaian pembelajaran dan profil lulusan yang diharapkan serta selaras dengan visi, misi, tujuan dan strategi.
A58: 7.a.1 | B58: PENELITIAN Unit Pengelola Program Studi memiliki arah pengembangan penelitian bidang ilmu Ekonomi, Manajemen, Bisnis dan Akuntansi dan berkomitmen untuk mengembangkan penelitian yang bermutu serta memberikan solusi terhadap permasalahan yang dihadapi ekonomi dan bisnis secara nasional maupun global sesuai dengan visi, misi dan roadmap penelitian. Program studi/dosen/mahasiswa melakukan penelitian untuk memberi kontribusi intelektual yang memenuhi prinsip-prinsip penelitian ilmiah yang diterima secara umum dan mendukung pencapaian visi, misi, tujuan dan strategi Unit Pengelola Program Studi. | C58: Pelaksanaan dan Pendanaan | D58: Unit Pengelola Program Studi mendeskripsikan pedoman pelaksanaan dan roadmap penelitian yang sesuai dengan visi dan misi serta isu-isu ekonomi dan bisnis yang berkembang baik di tingkat lokal, nasional maupun internasional.
A59: 7.a.2 | D59: Unit Pengelola Program Studi dan program studi mendeskripsikan sumber pendanaan untuk mendorong dosen agar mengikuti penelitian sesuai dengan visi dan misi serta isu-isu ekonomi dan bisnis yang berkembang baik di tingkat lokal, nasional maupun internasional.
A60: 7.a.3 | D60: Unit Pengelola Program Studi memiliki sumber pendanaan dan realisasi yang berasal dari internal, pemerintah, industri dan lembaga lain yang relevan dan mendukung visi, misi, tujuan dan strategi.
A61: 7.b.1 | C61: Diseminasi dan Kontribusi hasil | D61: Unit Pengelola Program Studi mendeskripsikan penelitian dosen dan/atau dosen dengan mahasiswa yang sesuai dengan roadmap penelitian dan/atau bermitra dengan pihak eksternal pada tahun berjalan serta didesiminasikan dalam publikasi dan/atau pertemuan ilmiah tingkat lokal, nasional atau internasional dan mendukung visi, misi, tujuan dan strategi.
A62: 7.b.2 | D62: Unit Pengelola Program Studi dan program studi mendeskripsikan kontribusi hasil penelitian pada pengembangan pengajaran, ilmu pengetahuan dan praktik di bidang Ekonomi, Manajemen, Bisnis dan Akuntansi baik di tingkat lokal, nasional atau internasional dan mendukung visi, misi, tujuan dan strategi.
A63: 8.a.1 | B63: PENGABDIAN KEPADA MASYARAKAT Unit Pengelola Program Studi memberikan arah pengembangan pengabdian kepada masyarakat, komitmen untuk mengembangkan pengabdian kepada masyarakat yang bermutu dan unggul, memiliki dampak terhadap pengembangan ekonomi lokal, nasional dan global, sesuai dengan visi, misi dan roadmap pengabdian kepada masyarakat. Program studi/dosen/mahasiswa melakukan kegiatan secara mandiri dan/atau bekerja sama dengan mitra dari kalangan bisnis, profesional, pemerintah, organisasi non-pemerintah (NGO), dan masyarakat umum untuk mengembangkan dan menyampaikan pengetahuan, kebijakan, metoda, sumber daya, sistem, dan berbagai bentuk inovasi yang dapat memberi dampak positif secara langsung maupun tidak langsung pada ilmu pengetahuan, industri/UMKM, lingkungan sosial, ekonomi, dan masyarakat. | C63: Pelaksanaan dan Pendanaan | D63: Unit Pengelola Program Studi mendeskripsikan pedoman pelaksanaan dan roadmap pengabdian kepada masyarakat yang sesuai dengan visi dan misi serta isu-isu ekonomi dan bisnis yang berkembang baik di tingkat lokal, nasional maupun internasional.
A64: 8.a.2 | D64: Unit Pengelola Program Studi dan program studi mendeskripsikan sumber pendanaan untuk mendorong dosen agar mengikuti pengabdian kepada masyarakat sesuai dengan visi dan misi serta isu-isu ekonomi dan bisnis yang berkembang baik di tingkat lokal, nasional maupun internasional.
A65: 8.a.3 | D65: Unit Pengelola Program Studi memiliki sumber pendanaan dan realisasi yang berasal dari internal, pemerintah, industri dan lembaga lain yang relevan dan mendukung visi, misi, tujuan dan strategi.
A66: 8.b.1 | C66: Diseminasi dan Kontribusi hasil | D66: Unit Pengelola Program Studi mendeskripsikan pengabdian kepada masyarakat dosen dan/atau dosen dengan mahasiswa yang sesuai dengan roadmap pengabdian kepada masyarakat dan/atau bermitra dengan pihak eksternal pada tahun berjalan serta didesiminasikan dalam publikasi dan/atau pertemuan ilmiah tingkat lokal, nasional atau internasional dan mendukung visi, misi, tujuan dan strategi.
A67: 8.b.2 | D67: Unit Pengelola Program Studi dan program studi mendeskripsikan kontribusi hasil pengabdian kepada masyarakat pada pengembangan pengajaran, ilmu pengetahuan dan praktik di bidang Ekonomi, Manajemen, Bisnis dan Akuntansi baik di tingkat lokal, nasional atau internasional dan mendukung visi, misi, tujuan dan strategi.
A68: 9.a.1 | B68: LUARAN DAN CAPAIAN TRIDHARMA Unit Pengelola Program Studi memiliki metoda untuk mengukur tingkat luaran dan capaian serta memiliki proses yang sistematik untuk mengevaluasi keefektifan dan perbaikan berkesinambungan pelaksanaan Tridharma Perguruan Tinggi. Unit Pengelola Program Studi mendorong dosen dan mahasiswa untuk menghasilkan kontribusi intelektual dalam Tridharma Perguruan Tinggi sebagai dasar inovasi yang telah ditinjau dan divalidasi oleh sejawat akademis atau profesional serta didesiminasikan. | C68: Pendidikan dan Pengajaran | D68: Unit Pengelola Program Studi mendeskripsikan profil dan capaian pembelajaran lulusan sesuai dengan yang ditetapkan oleh Unit Pengelola Program Studi dan perguruan tinggi dengan mengacu pada KKNI serta selaras dengan visi keilmuan program studi.
A69: 9.a.2 | D69: Unit Pengelola Program Studi mendeskripsikan tingkat pemenuhan target capaian pembelajaran program studi.
A70: 9.a.3 | D70: Unit Pengelola Program Studi mendeskripsikan hasil intervensi dan penerapan penyesuaian/peninjauan kurikulum untuk perbaikan kualitas pembelajaran berdasar tingkat pemenuhan capaian pembelajaran dan masukan dari para pemangku kepentingan.
A71: 9.a.4 | D71: Unit Pengelola Program Studi mendeskripsikan hasil penelusuran lulusan, umpan balik pengguna lulusan dan persepsi publik terhadap lulusan yang sesuai dengan capaian pembelajaran lulusan.
A72: 9.a.5 | D72: Unit Pengelola Program Studi melakukan evaluasi pada proses pembelajaran yang merupakan bagian dari penilaian kinerja dosen.
A73: 9.a.6 | D73: Unit Pengelola Program Studi melakukan evaluasi pada proses pembelajaran yang merupakan bagian dari penilaian kinerja tenaga kependidikan.
A74: 9.a.7 | D74: Unit Pengelola Program Studi mendeskripsikan kontribusi intelektual yang ditunjukkan dengan rekognisi pada bidang pendidikan dan pengajaran yang bermanfaat untuk akademik, profesional dan sosial masyarakat sesuai dengan visi, misi, tujuan dan strategi.
A75: 9.a.8 | D75: Unit Pengelola Program Studi mendeskripsikan prestasi akademik dan non-akademik yang sesuai dengan Standar Perguruan Tinggi atau Unit Pengelola Program Studi dan selaras dengan visi, misi, tujuan dan strategi.
A76: 9.a.9 | D76: Unit Pengelola Program Studi mendeskripsikan rata-rata lulusan dengan masa studi yang sesuai dengan dengan Standar Perguruan Tinggi atau Unit Pengelola Program Studi dan selaras dengan visi, misi, tujuan dan strategi.
A77: 9.a.10 | D77: Unit Pengelola Program Studi mendeskripsikan data lulusan yang berhasil memasuki dunia kerja dan bisnis yang sesuai dengan Standar Perguruan Tinggi atau Unit Pengelola Program Studi dan selaras dengan visi, misi, tujuan dan strategi.
A78: 9.a.11 | D78: Unit Pengelola Program Studi mendeskripsikan lulusan yang bekerja selaras dengan bidangnya yang sesuai dengan Standar Perguruan Tinggi atau Unit Pengelola Program Studi dan selaras dengan visi, misi, tujuan dan strategi.
A79: 9.a.12 | D79: Unit Pengelola Program Studi mendeskripsikan lulusan dengan jangkauan operasi kerja yang sesuai dengan Standar Perguruan Tinggi atau Unit Pengelola Program Studi dan selaras dengan visi, misi, tujuan dan strategi.
A80: 9.a.13 | D80: Unit Pengelola Program Studi melakukan survei kepuasan pengguna akan kemampuan kerja lulusan dengan hasil yang sesuai dengan Standar Perguruan Tinggi atau Unit Pengelola Program Studi dan selaras dengan visi, misi, tujuan dan strategi.
A81: 9.b.1 | C81: Penelitian | D81: Unit Pengelola Program Studi mendeskripsikan kontribusi intelektual yang ditunjukkan dengan rekognisi pada bidang pengabdian masyarakat yang bermanfaat untuk akademik, profesional dan sosial masyarakat sesuai dengan visi dan misi Unit Pengelola Program Studi.
A82: 9.b.2 | D82: Unit Pengelola Program Studi melakukan evaluasi proses pengabdian masyarakat yang merupakan bagian dari penilaian kinerja dosen.
A83: 9.b.3 | D83: Unit Pengelola Program Studi mendeskripsikan pedoman yang mengatur kontribusi hasil luaran pengabdian kepada masyarakat untuk pengembangan ilmu pengetahuan, praktek dan profesional.
A84: 9.c.1 | C84: Pengabdian kepada Masyarakat | D84: Unit Pengelola Program Studi mendeskripsikan kontribusi intelektual yang ditunjukkan dengan rekognisi pada bidang pengabdian masyarakat yang bermanfaat untuk akademik, profesional dan sosial masyarakat sesuai dengan visi dan misi Unit Pengelola Program Studi.
A85: 9.c.2 | D85: Unit Pengelola Program Studi melakukan evaluasi proses pengabdian masyarakat yang merupakan bagian dari penilaian kinerja dosen.
A86: 9.c.3 | D86: Unit Pengelola Program Studi mendeskripsikan pedoman yang mengatur kontribusi hasil luaran pengabdian kepada masyarakat untuk pengembangan ilmu pengetahuan, praktek dan profesional.
B88: Integrated Evaluation :
B90: *) Diisi dengan checklist dan mengacu pada dokumen DL-09 Panduan Penilaian Akreditasi Program Studi LAMEMBA.
B91: **) Penilaian dibagi menjadi dua bagian. Untuk dimensi yang tertera di SN-Dikti, SN-Dikti menjadi acuan/referensi penilaian. Sedangkan untuk dimensi yang tidak tertera di SN-Dikti, maka Standar Pendidikan Tinggi yang ditetapkan oleh Perguruan Tinggi (SPTPT) yang mengacu pada Rencana Strategis atau dokumen strategis lainnya menjadi acuan/referensi penilaian.
B92: ***) Indikator yang merupakan bagian dari Syarat Perlu Terakreditasi

Sheet Keputusan AK
A1: FORMULIR PENILAIAN ASESMEN KECUKUPAN AKREDITASI PROGRAM STUDI
A2: LEMBAGA AKREDITASI MANDIRI EKONOMI, MANAJEMEN, BISNIS DAN AKUNTANSI
B4: Perguruan Tinggi | C4: : | D4: ='Kertas Kerja'!D4 -> 0
B5: Fakultas | C5: : | D5: ='Kertas Kerja'!D5 -> 0
B6: Departemen | C6: : | D6: ='Kertas Kerja'!D6 -> 0
B7: Program Studi | C7: : | D7: ='Kertas Kerja'!D7 -> 0
B8: Tanggal Asesmen Kecukupan | C8: : | D8: ='Kertas Kerja'!D8 -> 0
A10: No. | B10: Kriteria & Deskripsi | C10: Dimensi | D10: Indikator | E10: Evaluasi Asesor
E11: Status | G11: Deskripsi Penilaian Asesor Berdasarkan Data dan Informasi dari DED dan DKPS | H11: Standar Pendidikan Tinggi yang ditetapkan oleh Perguruan Tinggi sesuai atau melampaui | J11: Tingkat Daya Saing
E12: Meet the Indicator | F12: Not Meet the Indicator | H12: SN-Dikti | I12: Target pada Rencana Strategis | J12: Per Indikator | K12: Per Dimensi
A13: 1.a.1 | B13: VISI, MISI, TUJUAN DAN STRATEGI Unit Pengelola Program Studi menjelaskan proses dalam menentukan visi, misi, tujuan dan pengembangan strategi, mengemban misi, mencapai visi dan tujuan strategis, serta proses dalam mengendalikan pelaksanaan strategi program studi. Diantara hal yang menjadi perhatian adalah bagaimana Unit Pengelola Program Studi akan berkontribusi secara berarti untuk memajukan perekonomian dan bisnis nasional serta profesi ekonom, manajemen dan akuntansi melalui pelaksanaan Tridharma Perguruan Tinggi. Unit Pengelola Program Studi secara jelas merumuskan visi, misi, tujuan dan strategi Unit Pengelola Program Studi untuk mewujudkan visi keilmuan program studi, serta menerangkan bagaimana keterlibatan seluruh pemangku kepentingan dalam perumusan tersebut. Visi, misi, tujuan dan strategi menunjukkan kekhasan Unit Pengelola Program Studi, maka dari itu keterlibatan pemangku kepentingan baik internal maupun eksternal pada saat penyusunan visi, misi, tujuan dan strategi menjadi sangat penting. | C13: Visi | D13: Visi mendeskripsikan aspirasi program studi, arah yang dituju dan profil program studi di masa yang akan datang secara jelas, realistis, kredibel dan dilakukan peninjauan ataupun evaluasi untuk menjamin implementasi visi secara efisien dan efektif dengan memerhatikan arah perkembangan dan kondisi ekonomi dan bisnis. | E13: ='Kertas Kerja'!E13 -> 0 | F13: ='Kertas Kerja'!F13 -> 0 | G13: ='Kertas Kerja'!G13:G14 -> 0 | I13: ='Kertas Kerja'!I13:I14 -> 0 | J13: ='Kertas Kerja'!J13 -> 0 | K13: ='Kertas Kerja'!K13:K14 -> 0
A14: 1.a.2 | D14: Visi diharapkan mampu menumbuhkan komitmen dan energi, memberi makna, menjadi standar kinerja yang menjembatani kondisi ekonomi dan bisnis masa sekarang dan masa yang akan datang serta disusun, ditetapkan, terdokumentasi dengan melibatkan seluruh pemangku kepentingan. | E14: ='Kertas Kerja'!E14 -> 0 | F14: ='Kertas Kerja'!F14 -> 0 | J14: ='Kertas Kerja'!J14 -> 0
A15: 1.b.1 | C15: Misi | D15: Misi menguraikan keilmuan yang disampaikan, dikembangkan dan diterapkan pada kegiatan Tridharma Pendidikan Tinggi serta menjelaskan luaran dan dampak ekonomi dan bisnis, pihak-pihak yang dilayani dan mendapat manfaat, arena berkarya, nilai-nilai dan keyakinan yang dijadikan dasar dalam berkarya. | E15: ='Kertas Kerja'!E15 -> 0 | F15: ='Kertas Kerja'!F15 -> 0 | G15: ='Kertas Kerja'!G15:G16 -> 0 | I15: ='Kertas Kerja'!I15:I16 -> 0 | J15: ='Kertas Kerja'!J15 -> 0 | K15: ='Kertas Kerja'!K15:K16 -> 0
A16: 1.b.2 | D16: Misi mendeskripsikan secara jelas keunikan keberadaan program studi dalam mencapai visi serta menunjukkan apa yang akan dilakukan, secara ringkas, mudah diingat, mutakhir dan realistis yang disusun, ditetapkan, terdokumentasi serta melibatkan seluruh pemangku kepentingan dengan melakukan peninjauan dan evaluasi agar dapat menjembatani kondisi ekonomi dan bisnis masa sekarang dan masa yang akan datang. | E16: ='Kertas Kerja'!E16 -> 0 | F16: ='Kertas Kerja'!F16 -> 0 | J16: ='Kertas Kerja'!J16 -> 0
A17: 1.c.1 | C17: Tujuan | D17: Tujuan diturunkan dari visi dan misi dan dievaluasi serta ditinjau ulang secara berkala agar sesuai dengan arah perkembangan ekonomi dan bisnis masa sekarang dan masa yang akan datang. | E17: ='Kertas Kerja'!E17 -> 0 | F17: ='Kertas Kerja'!F17 -> 0 | G17: ='Kertas Kerja'!G17:G18 -> 0 | I17: ='Kertas Kerja'!I17:I18 -> 0 | J17: ='Kertas Kerja'!J17 -> 0 | K17: ='Kertas Kerja'!K17:K18 -> 0
A18: 1.c.2 | D18: Sasaran diturunkan dari tujuan yang dinyatakan secara spesifik, terukur, hal yang akan dicapai, waktu pencapaiannya dan keterlibatan pemangku kepentingan. | E18: ='Kertas Kerja'!E18 -> 0 | F18: ='Kertas Kerja'!F18 -> 0 | J18: ='Kertas Kerja'!J18 -> 0
A19: 1.d.1 | C19: Strategi | D19: Strategi mendeskripsikan proses dalam mengemban misi dan mewujudkan visi, melalui pencapaian tujuan dan sasaran strategisnya yang memiliki dampak terhadap daya saing dengan memanfaatkan sumber-sumber yang dimiliki secara efektif dan efisien untuk untuk menjawab arah perkembangan ekonomi dan bisnis baik nasional dan global. | E19: ='Kertas Kerja'!E19 -> 0 | F19: ='Kertas Kerja'!F19 -> 0 | G19: ='Kertas Kerja'!G19:G20 -> 0 | I19: ='Kertas Kerja'!I19:I20 -> 0 | J19: ='Kertas Kerja'!J19 -> 0 | K19: ='Kertas Kerja'!K19:K20 -> 0
A20: 1.d.2 | D20: Strategi mendeskripsikan penyusunan dan penetapan strategi dengan melibatkan seluruh pemangku kepentingan serta peninjauan dan evaluasi terhadap implementasi strategi yang efektif dan efisien. | E20: ='Kertas Kerja'!E20 -> 0 | F20: ='Kertas Kerja'!F20 -> 0 | J20: ='Kertas Kerja'!J20 -> 0
A21: 2.a.1 | B21: TATA KELOLA, TATA PAMONG DAN KERJASAMA Unit Pengelola Program Studi secara jelas menerangkan bagaimana kepemimpinan program studi telah merancang dan melaksanakan tata pamong dan tata kelola organisasi yang bersifat transformasional dan partisipatif. Unit Pengelola Program Studi juga menjelaskan bagaimana kepemimpinan organisasi telah membangun dan melaksanakan kerjasama berkelanjutan dengan mitranya. | C21: Tata Pamong | D21: Unit Pengelola Program Studi mendeskripsikan proses, struktur dan tradisi dalam menjalankan tugas dan menggunakan wewenangnya untuk mengemban misi, mewujudkan visi dan mencapai tujuan serta sasaran strategisnya yang didukung perilaku etis dan berintegritas para pengelola, tenaga kependidikan, mahasiswa dan mitra Unit Pengelola Program Studi. | E21: ='Kertas Kerja'!E21 -> 0 | F21: ='Kertas Kerja'!F21 -> 0 | G21: ='Kertas Kerja'!G21:G22 -> 0 | I21: ='Kertas Kerja'!I21:I22 -> 0 | J21: ='Kertas Kerja'!J21 -> 0 | K21: ='Kertas Kerja'!K21:K22 -> 0
A22: 2.a.2 | D22: Unit Pengelola Program Studi mendeskripsikan peran, tanggung jawab, wewenang dan proses pengambilan keputusan untuk pencapaian efektivitas organisasi berdasarkan visi, misi, tujuan dan strategi serta menggunakan lima pilar sistem tata pamong, yang mencakup: kredibel, transparan, akuntabel, bertanggung jawab dan adil. | E22: ='Kertas Kerja'!E22 -> 0 | F22: ='Kertas Kerja'!F22 -> 0 | J22: ='Kertas Kerja'!J22 -> 0
A23: 2.b.1 | C23: Tata Kelola | D23: Unit Pengelola Program Studi mendeskripsikan perencanaan, pengorganisasian, pengarahan dan pengendalian sumber daya agar program studi dapat menjalankan tugas dan kewajibannya secara efektif dan efisien serta akuntabel, bertanggung jawab, transparan, adil dan terhindar dari konflik kepentingan yang ditunjukkan dengan hasil evaluasi kepuasan para pemangku kepentingan terhadap keterlaksanaan dan efektivitas tata kelola. | E23: ='Kertas Kerja'!E23 -> 0 | F23: ='Kertas Kerja'!F23 -> 0 | G23: ='Kertas Kerja'!G23:G24 -> 0 | I23: ='Kertas Kerja'!I23:I24 -> 0 | J23: ='Kertas Kerja'!J23 -> 0 | K23: ='Kertas Kerja'!K23:K24 -> 0
A24: 2.b.2 | D24: Unit Pengelola Program Studi mendeskripsikan sistem manajemen mutu internal yang diimplementasikan secara konsisten, efektif dan efisien serta dilaporkan secara berkala untuk tindak lanjut peningkatan mutu pendidikan tinggi. | E24: ='Kertas Kerja'!E24 -> 0 | F24: ='Kertas Kerja'!F24 -> 0 | J24: ='Kertas Kerja'!J24 -> 0
A25: 2.c.1 | C25: Kerjasama | D25: Unit Pengelola Program Studi menjelaskan kegiatan dengan para mitranya dan hasil dari kegiatan tersebut. | E25: ='Kertas Kerja'!E25 -> 0 | F25: ='Kertas Kerja'!F25 -> 0 | G25: ='Kertas Kerja'!G25:G28 -> 0 | I25: ='Kertas Kerja'!I25:I28 -> 0 | J25: ='Kertas Kerja'!J25 -> 0 | K25: ='Kertas Kerja'!K25:K28 -> 0
A26: 2.c.2 | D26: Unit Pengelola Program Studi menjelaskan keselarasan dan konsistensi antara kerja sama, visi, misi, tujuan dan aspirasi para pemangku kepentingan dengan memperhatikan isu ekonomi dan bisnis yang berkembang untuk memberi dampak positif kepada para pemangku kepentingan dan masyarakat luas. | E26: ='Kertas Kerja'!E26 -> 0 | F26: ='Kertas Kerja'!F26 -> 0 | J26: ='Kertas Kerja'!J26 -> 0
A27: 2.c..3 | D27: Unit Pengelola Program Studi menjelaskan cakupan kerja sama bidang Ilmu EMBA dan dampaknya. Kegiatan kerja sama program studi dapat mencakup bidang pendidikan, penelitian, dan/atau pengabdian kepada masyarakat dengan memperhatikan isu ekonomi dan bisnis yang berkembang di tingkat lokal, nasional, dan/atau internasional. | E27: ='Kertas Kerja'!E27 -> 0 | F27: ='Kertas Kerja'!F27 -> 0 | J27: ='Kertas Kerja'!J27 -> 0
A28: 2.c.4 | D28: Unit Pengelola Program Studi melakukan evaluasi kerjasama secara berkala dan tindak lanjut dengan mempertimbangkan dampak internal dan eksternal kerjasama. | E28: ='Kertas Kerja'!E28 -> 0 | F28: ='Kertas Kerja'!F28 -> 0 | J28: ='Kertas Kerja'!J28 -> 0
A29: 3.a.1 | B29: MAHASISWA Unit Pengelola Program Studi memberikan informasi yang dapat dipercaya tentang kinerja program studi di bidang kemahasiswaan, pengelolaan mahasiswa, kebijakan dan prosedur penerimaan mahasiswa, layanan akademik, kinerja akademik mahasiswa, layanan kesejahteraan mahasiswa dan pengembangan karir mahasiswa. Keterlibatan mahasiswa di Lembaga pemerintah/BUMN, dunia usaha, asosiasi pengusaha dan profesi dapat meningkatkan pengetahuan dan keterampilan praktis di dunia kerja dan bisnis. | C29: Kebijakan dan Prosedur Penerimaan Mahasiswa | D29: Unit Pengelola Program Studi menjelaskan kebijakan dan prosedur penerimaan mahasiswa baru, mahasiswa asing dan transfer kredit secara transparan dan selaras dengan visi, misi, tujuan, strategi, nilai-nilai dan profil lulusan yang diharapkan serta efektivitas dan konsistensi pelaksanaannya. | E29: ='Kertas Kerja'!E29 -> 0 | F29: ='Kertas Kerja'!F29 -> 0 | G29: ='Kertas Kerja'!G29:G30 -> 0 | I29: ='Kertas Kerja'!I29:I30 -> 0 | J29: ='Kertas Kerja'!J29 -> 0 | K29: ='Kertas Kerja'!K29:K30 -> 0
A30: 3.a.2 | D30: Unit Pengelola Program Studi menjelaskan sistem penerimaan mahasiswa baru meliputi kriteria dan persyaratan yang bersifat inklusif dengan mempertimbangkan asas pemerataan dan rasa keadilan. | E30: ='Kertas Kerja'!E30 -> 0 | F30: ='Kertas Kerja'!F30 -> 0 | J30: ='Kertas Kerja'!J30 -> 0
A31: 3.b.1 | C31: Layanan Akademik Mahasiswa | D31: Unit Pengelola Program Studi menyiapkan, menjelaskan dan mendukung mahasiswa untuk menjamin kemajuan akademik dan mendorong keberhasilan mahasiswa dalam penyelesaian program. | E31: ='Kertas Kerja'!E31 -> 0 | F31: ='Kertas Kerja'!F31 -> 0 | G31: ='Kertas Kerja'!G31:G32 -> 0 | I31: ='Kertas Kerja'!I31:I32 -> 0 | J31: ='Kertas Kerja'!J31 -> 0 | K31: ='Kertas Kerja'!K31:K32 -> 0
A32: 3.b.2 | D32: Unit Pengelola Program Studi mendeskripsikan kebijakan, proses dan upaya pemenuhan standar kinerja yang konsisten dengan tujuan pembelajaran program studi, dengan: a) mempersiapkan mahasiswa agar mampu menggunakan modalitas dan pedagogi program studi; b) memberikan peringatan dini terkait masalah retensi dan perkembangan studi mahasiswa dan mengeluarkan mahasiswa dari program studi, jika perlu; c) memfasilitasi keterlibatan mahasiswa dalam semua aktivitas pembelajaran baik di kampus ataupun di luar kampus (Lembaga pemerintah/BUMN, dunia usaha, asosiasi pengusaha dan profesi) sebagai upaya meningkatkan hardskill dan softskill bidang ilmu EMBA. d) memfasilitasi kegiatan Unit Kegiatan Mahasiswa (UKM) yang sesuai dengan visi, misi, tujuan dan strategi. | E32: ='Kertas Kerja'!E32 -> 0 | F32: ='Kertas Kerja'!F32 -> 0 | J32: ='Kertas Kerja'!J32 -> 0
A33: 3.c.1 | C33: Kinerja Akademik Mahasiswa | D33: Unit Pengelola Program Studi mendeskripsikan hasil kegiatan mahasiswa mengikuti program profesi, sertifikasi dan/atau lisensi bidang ilmu EMBA untuk meningkatkan kualitas lulusan yang sesuai dengan profil lulusan program studi. | E33: ='Kertas Kerja'!E33 -> 0 | F33: ='Kertas Kerja'!F33 -> 0 | G33: ='Kertas Kerja'!G33:G34 -> 0 | I33: ='Kertas Kerja'!I33:I34 -> 0 | J33: ='Kertas Kerja'!J33 -> 0 | K33: ='Kertas Kerja'!K33:K34 -> 0
A34: 3.c.2 | D34: Unit Pengelola Program Studi mendeskripsikan evaluasi yang dilakukan untuk mengetahui perkembangan kinerja akademik dan kompetensi mahasiswa agar durasi pengerjaan tugas akhir sesuai dengan target yang telah ditetapkan serta tindak lanjut yang diperlukan dengan melibatkan dosen dalam kegiatan pengembangan akademik. | E34: ='Kertas Kerja'!E34 -> 0 | F34: ='Kertas Kerja'!F34 -> 0 | J34: ='Kertas Kerja'!J34 -> 0
A35: 3.d.1 | C35: Kesejahteraan Mahasiswa | D35: Unit Pengelola Program Studi menjelaskan upaya ketersediaan untuk kesejahteraan mental dan fisik mahasiswa serta akses kepada mahasiswa untuk mendapatkan dan layanan kesehatan fisik dan layanan konseling. | E35: ='Kertas Kerja'!E35 -> 0 | F35: ='Kertas Kerja'!F35 -> 0 | G35: ='Kertas Kerja'!G35:G36 -> 0 | I35: ='Kertas Kerja'!I35:I36 -> 0 | J35: ='Kertas Kerja'!J35 -> 0 | K35: ='Kertas Kerja'!K35:K36 -> 0
A36: 3.d.2 | D36: Unit Pengelola Program Studi mendeskripsikan fasilitas dan proses belajar yang memerhatikan kesejahteraan mahasiswa. | E36: ='Kertas Kerja'!E36 -> 0 | F36: ='Kertas Kerja'!F36 -> 0 | J36: ='Kertas Kerja'!J36 -> 0
A37: 3.e.1 | C37: Pengembangan Karir Mahasiswa | D37: Unit Pengelola Program Studi mendeskripsikan program dan menyediakan fasilitas pengembangan karir dan kompetensi mahasiswa yang konsisten dengan visi, misi dan profil lulusan yang diharapkan sesuai dengan arah perkembangan ekonomi dan bisnis masa yang akan datang. | E37: ='Kertas Kerja'!E37 -> 0 | F37: ='Kertas Kerja'!F37 -> 0 | G37: ='Kertas Kerja'!G37:G38 -> 0 | I37: ='Kertas Kerja'!I37:I38 -> 0 | J37: ='Kertas Kerja'!J37 -> 0 | K37: ='Kertas Kerja'!K37:K38 -> 0
A38: 3.e.2 | D38: Unit Pengelola Program Studi memfasilitasi interaksi mahasiswa dengan sesama mahasiswa, dosen, alumni dan profesional dalam kegiatan akademik dan non-akademik untuk pengembangan kompetensi dan karir mahasiswa. | E38: ='Kertas Kerja'!E38 -> 0 | F38: ='Kertas Kerja'!F38 -> 0 | J38: ='Kertas Kerja'!J38 -> 0
A39: 4.a.1 | B39: SUMBER DAYA MANUSIA Unit Pengelola Program Studi menjelaskan kemampuannya untuk memenuhi kebutuhan akan dosen dan tenaga kependidikan secara kuantitatif dan kualitatif sesuai dengan visi, misi, tujuan dan strategi Unit Pengelola Program Studi. | C39: Kecukupan dan Kualifikasi Dosen | D39: Unit Pengelola Program Studi menugaskan dosen tetap dan dosen tidak tetap dengan jumlah dan kualifikasi yang sesuai dengan visi, misi, tujuan dan strategi serta memenuhi aturan SN-Dikti. | E39: ='Kertas Kerja'!E39 -> 0 | F39: ='Kertas Kerja'!F39 -> 0 | G39: ='Kertas Kerja'!G39:G40 -> 0 | H39: ='Kertas Kerja'!H39:H40 -> 0 | J39: ='Kertas Kerja'!J39 -> 0 | K39: ='Kertas Kerja'!K39:K40 -> 0
A40: 4.a.2 | D40: Dosen secara kolektif dan individual mendeskripsikan keterlibatan akademik dan profesional secara signifikan dan memperkuat modal intelektual yang diperlukan untuk mendukung hasil berkualitas tinggi yang konsisten dengan visi, misi, tujuan dan strategi. | E40: ='Kertas Kerja'!E40 -> 0 | F40: ='Kertas Kerja'!F40 -> 0 | J40: ='Kertas Kerja'!J40 -> 0
A41: 4.a.3 | C41: Pengelolaan Dosen | D41: Unit Pengelola Program Studi mendeskripsikan proses yang terdokumentasi dan efektif untuk memfasilitasi human resouce planning, rencana dan implementasi pendidikan, pelatihan dan pengembangan dosen untuk meningkatkan kualifikasi dan kinerja dosen sesuai dengan visi dan misi serta arah perkembangan ekonomi dan bisnis baik di tingkat nasional maupun global. | E41: ='Kertas Kerja'!E41 -> 0 | F41: ='Kertas Kerja'!F41 -> 0 | G41: ='Kertas Kerja'!G41:G44 -> 0 | I41: ='Kertas Kerja'!I41:I44 -> 0 | J41: ='Kertas Kerja'!J41 -> 0 | K41: ='Kertas Kerja'!K41:K44 -> 0
A42: 4.a.4 | D42: Unit Pengelola Program studi mendeskripsikan mekanisme dan prosedur dalam pengembangan karir akademik, keikutsertaan sertifikasi profesional dosen dalam bidang EMBA dan sesuai dengan visi, misi, tujuan dan strategi. | E42: ='Kertas Kerja'!E42 -> 0 | F42: ='Kertas Kerja'!F42 -> 0 | J42: ='Kertas Kerja'!J42 -> 0
A43: 4.a.5 | D43: Unit Pengelola Program Studi mendeskripsikan pengelolaan dosen secara sistematis yang memberikan tanggung jawab kepada setiap dosen untuk memenuhi visi dan misi program studi dan menetapkan harapan yang realistis untuk setiap dosen. | E43: ='Kertas Kerja'!E43 -> 0 | F43: ='Kertas Kerja'!F43 -> 0 | J43: ='Kertas Kerja'!J43 -> 0
A44: 4.a.6 | D44: Unit Pengelola Program Studi mendeskripsikan proses evaluasi, promosi dan penghargaan dosen yang dikomunikasikan kepada dosen dengan jelas dan sistematis untuk mendukung visi, misi, tujuan dan strategi. | E44: ='Kertas Kerja'!E44 -> 0 | F44: ='Kertas Kerja'!F44 -> 0 | J44: ='Kertas Kerja'!J44 -> 0
A45: 4.b.1 | C45: Kecukupan dan Kualifikasi Tenaga Kependidikan | D45: Unit Pengelola Program studi mendeskripsikan jumlah tenaga kependidikan yang sesuai dengan visi, misi, tujuan dan strategi serta memenuhi aturan SN-Dikti serta kualifikasi dan sertifikasi tenaga kependidikan yang sesuai dengan kebutuhan layanan program studi dalam melaksanakan kegiatan akademik dan pengembangan program studi. | E45: ='Kertas Kerja'!E45 -> 0 | F45: ='Kertas Kerja'!F45 -> 0 | G45: ='Kertas Kerja'!G45 -> 0 | H45: ='Kertas Kerja'!H45 -> 0 | J45: ='Kertas Kerja'!J45 -> 0 | K45: ='Kertas Kerja'!K45 -> 0
A46: 4.b.2 | C46: Pengembangan Tenaga Kependidikan | D46: Unit Pengelola Program Studi mendeskripsikan program pengembangan kompetensi tenaga kependidikan melalui pendidikan dan pelatihan, untuk meningkatkan kualifikasi dan kinerja mereka sesuai dengan visi, misi, tujuan dan strategi. | E46: ='Kertas Kerja'!E46 -> 0 | F46: ='Kertas Kerja'!F46 -> 0 | G46: ='Kertas Kerja'!G46:G47 -> 0 | I46: ='Kertas Kerja'!I46:I47 -> 0 | J46: ='Kertas Kerja'!J46 -> 0 | K46: ='Kertas Kerja'!K46:K47 -> 0
A47: 4.b.3 | D47: Unit Pengelola Program Studi mendeskripsikan mekanisme dan prosedur pengembangan karir akademik dan sertifikasi profesional bagi tenaga kependidikan sesuai dengan visi, misi, tujuan dan strategi. | E47: ='Kertas Kerja'!E47 -> 0 | F47: ='Kertas Kerja'!F47 -> 0 | J47: ='Kertas Kerja'!J47 -> 0
A48: 5.a.1 | B48: KEUANGAN, SARANA DAN PRASARANA Unit Pengelola Program Studi mampu mengelola keuangan, sarana dan prasarana untuk mendukung keberlanjutan program studi dalam menyediakan lingkungan belajar dan kerja yang berkualitas yang diperlukan bagi para mahasiswa, dosen dan tenaga pendidikan untuk sukses dan berkinerja tinggi sesuai dengan visi, misi, tujuan dan strategi. | C48: Keuangan | D48: Unit Pengelola Program Studi menjelaskan perencanaan, pengeluaran dan pengelolaan sumber daya keuangan untuk mendukung, mempertahankan, dan meningkatkan kualitas layanan program studi; memenuhi kebutuhan operasional pendidikan, penelitian dan pengabdian kepada masyarakat serta investasi yang selaras dengan visi, misi, tujuan dan strategi. | E48: ='Kertas Kerja'!E48 -> 0 | F48: ='Kertas Kerja'!F48 -> 0 | G48: ='Kertas Kerja'!G48:G49 -> 0 | I48: ='Kertas Kerja'!I48:I49 -> 0 | J48: ='Kertas Kerja'!J48 -> 0 | K48: ='Kertas Kerja'!K48:K49 -> 0
A49: 5.a.2 | D49: Unit Pengelola Program Studi menjelaskan usaha-usaha yang dilakukan untuk menjamin keberlanjutan sumber daya keuangan dalam mencapai visi, misi, tujuan dan strategi. | E49: ='Kertas Kerja'!E49 -> 0 | F49: ='Kertas Kerja'!F49 -> 0 | J49: ='Kertas Kerja'!J49 -> 0
A50: 5.b.1 | C50: Sarana dan Prasarana | D50: Unit Pengelola Program Studi menjelaskan penyediaan dan pengelolaan sarana dan prasarana fisik dan virtual yang dapat dimanfaatkan oleh mahasiswa dan dosen untuk kegiatan pendidikan, penelitian, pengabdian kepada masyarakat dan oleh tenaga kependidikan untuk mendukung kegiatan pendidikan, penelitian dan pengabdian kepada masyarakat. | E50: ='Kertas Kerja'!E50 -> 0 | F50: ='Kertas Kerja'!F50 -> 0 | G50: ='Kertas Kerja'!G50:G51 -> 0 | H50: ='Kertas Kerja'!H50:H51 -> 0 | J50: ='Kertas Kerja'!J50 -> 0 | K50: ='Kertas Kerja'!K50:K51 -> 0
A51: 5.b.2 | D51: Unit Pengelola Program Studi menjelaskan kecukupan dan rencana pengembangan sarana dan prasarana untuk melayani mahasiswa, dosen dan tenaga kependidikan dengan merujuk pada SN-Dikti dan selaras dengan visi, misi, tujuan dan strategi. | E51: ='Kertas Kerja'!E51 -> 0 | F51: ='Kertas Kerja'!F51 -> 0 | J51: ='Kertas Kerja'!J51 -> 0
A52: 6.a.1 | B52: PENDIDIKAN Unit Pengelola Program Studi menjelaskan proses agar mahasiswa memperoleh pengalaman belajar, baik didalam ataupun diluar kampus, dapat pula di lembaga pemerintah, industri atau perusahaan untuk mendapatkan dan mengembangkan kompetensi yang relevan dengan kebutuhan para pemangku kepentingan dan selaras dengan visi dan misi Unit Pengelola Program Studi. Unit Pengelola Program Studi menjamin bahwa semua mahasiswa memiliki kesempatan yang sama untuk mendapatkan pembelajaran yang sesuai dengan disiplin ilmu yang ditawarkan oleh Unit Pengelola Program Studi, dengan menggunakan metoda pembelajaran yang dapat mendukung mahasiswa mencapai hasil belajar yang diharapkan. | D52: Kurikulum program studi mendeskripsikan materi pembelajaran yang mutakhir dan relevan dengan kebutuhan ekonomi dan bisnis masa depan, memiliki perspektif global, sesuai dengan visi, misi, tujuan, strategi dan capaian pembelajaran serta dievaluasi dan dikembangkan agar sesuai dan relevan dengan perkembangan ilmu pengetahuan, praktik dan tantangan-tantangan di masa yang akan datang dengan melibatkan pemangku kepentingan. | E52: ='Kertas Kerja'!E52 -> 0 | F52: ='Kertas Kerja'!F52 -> 0 | G52: ='Kertas Kerja'!G52:G53 -> 0 | H52: ='Kertas Kerja'!H52:H53 -> 0 | J52: ='Kertas Kerja'!J52 -> 0 | K52: ='Kertas Kerja'!K52:K53 -> 0
A53: 6.a.2 | D53: Implementasi kurikulum menjamin akuisisi dan pengembangan kompetensi mahasiswa, memfasilitasi keterlibatan aktif mahasiswa dalam proses pembelajaran, dan interaksi produktif mahasiswa-mahasiswa dan mahasiswa-dosen untuk mencapai tujuan pembelajaran. | E53: ='Kertas Kerja'!E53 -> 0 | F53: ='Kertas Kerja'!F53 -> 0 | J53: ='Kertas Kerja'!J53 -> 0
A54: 6.b.1 | C54: Jaminan Pembelajaran | D54: Unit Pengelola Program Studi mendokumentasikan proses jaminan pembelajaran dengan baik yang sesuai dengan profil lulusan, kompetensi lulusan dan capaian pembelajaran yang telah ditetapkan serta selaras dengan visi, misi, tujuan dan strategi. | E54: ='Kertas Kerja'!E54 -> 0 | F54: ='Kertas Kerja'!F54 -> 0 | G54: ='Kertas Kerja'!G54:G56 -> 0 | H54: ='Kertas Kerja'!H54:H56 -> 0 | J54: ='Kertas Kerja'!J54 -> 0 | K54: ='Kertas Kerja'!K54:K56 -> 0
A55: 6.b.2 | D55: Unit Pengelola Program Studi menyusun peta kurikulum untuk menjamin struktur mata kuliah dan kegiatan pembelajaran konsisten dan relevan dengan capaian pembelajaran dan profil lulusan yang diharapkan serta selaras dengan visi, misi, tujuan dan strategi. | E55: ='Kertas Kerja'!E55 -> 0 | F55: ='Kertas Kerja'!F55 -> 0 | J55: ='Kertas Kerja'!J55 -> 0
A56: 6.b.3 | D56: Unit Pengelola Program Studi mendeskripsikan pedoman standar pemenuhan capaian pembelajaran dan mengembangkan instrumen yang valid dan handal dengan metode yang relevan untuk mengukur capaian pembelajaran serta menetapkan intervensi untuk perbaikan kualitas pembelajaran berdasar tingkat pemenuhan capaian pembelajaran serta masukan dari para pemangku kepentingan. | E56: ='Kertas Kerja'!E56 -> 0 | F56: ='Kertas Kerja'!F56 -> 0 | J56: ='Kertas Kerja'!J56 -> 0
A57: 6.b.4 | D57: Unit Pengelola Program Studi mendeskripsikan hasil evaluasi pengukuran capaian pembelajaran mahasiswa dan tindak lanjut yang ditetapkan agar kegiatan dan proses pembelajaran konsisten dan relevan dengan capaian pembelajaran dan profil lulusan yang diharapkan serta selaras dengan visi, misi, tujuan dan strategi. | E57: ='Kertas Kerja'!E57 -> 0 | F57: ='Kertas Kerja'!F57 -> 0 | J57: ='Kertas Kerja'!J57 -> 0
A58: 7.a.1 | B58: PENELITIAN Unit Pengelola Program Studi memiliki arah pengembangan penelitian bidang ilmu Ekonomi, Manajemen, Bisnis dan Akuntansi dan berkomitmen untuk mengembangkan penelitian yang bermutu serta memberikan solusi terhadap permasalahan yang dihadapi ekonomi dan bisnis secara nasional maupun global sesuai dengan visi, misi dan roadmap penelitian. Program studi/dosen/mahasiswa melakukan penelitian untuk memberi kontribusi intelektual yang memenuhi prinsip-prinsip penelitian ilmiah yang diterima secara umum dan mendukung pencapaian visi, misi, tujuan dan strategi Unit Pengelola Program Studi. | C58: Pelaksanaan dan Pendanaan | D58: Unit Pengelola Program Studi mendeskripsikan pedoman pelaksanaan dan roadmap penelitian yang sesuai dengan visi dan misi serta isu-isu ekonomi dan bisnis yang berkembang baik di tingkat lokal, nasional maupun internasional. | E58: ='Kertas Kerja'!E58 -> 0 | F58: ='Kertas Kerja'!F58 -> 0 | G58: ='Kertas Kerja'!G58:G60 -> 0 | H58: ='Kertas Kerja'!H58:H60 -> 0 | J58: ='Kertas Kerja'!J58 -> 0 | K58: ='Kertas Kerja'!K58:K60 -> 0
A59: 7.a.2 | D59: Unit Pengelola Program Studi dan program studi mendeskripsikan sumber pendanaan untuk mendorong dosen agar mengikuti penelitian sesuai dengan visi dan misi serta isu-isu ekonomi dan bisnis yang berkembang baik di tingkat lokal, nasional maupun internasional. | E59: ='Kertas Kerja'!E59 -> 0 | F59: ='Kertas Kerja'!F59 -> 0 | J59: ='Kertas Kerja'!J59 -> 0
A60: 7.a.3 | D60: Unit Pengelola Program Studi memiliki sumber pendanaan dan realisasi yang berasal dari internal, pemerintah, industri dan lembaga lain yang relevan dan mendukung visi, misi, tujuan dan strategi. | E60: ='Kertas Kerja'!E60 -> 0 | F60: ='Kertas Kerja'!F60 -> 0 | J60: ='Kertas Kerja'!J60 -> 0
A61: 7.b.1 | C61: Diseminasi dan Kontribusi hasil | D61: Unit Pengelola Program Studi mendeskripsikan penelitian dosen dan/atau dosen dengan mahasiswa yang sesuai dengan roadmap penelitian dan/atau bermitra dengan pihak eksternal pada tahun berjalan serta didesiminasikan dalam publikasi dan/atau pertemuan ilmiah tingkat lokal, nasional atau internasional dan mendukung visi, misi, tujuan dan strategi. | E61: ='Kertas Kerja'!E61 -> 0 | F61: ='Kertas Kerja'!F61 -> 0 | G61: ='Kertas Kerja'!G61:G62 -> 0 | H61: ='Kertas Kerja'!H61:H62 -> 0 | J61: ='Kertas Kerja'!J61 -> 0 | K61: ='Kertas Kerja'!K61:K62 -> 0
A62: 7.b.2 | D62: Unit Pengelola Program Studi dan program studi mendeskripsikan kontribusi hasil penelitian pada pengembangan pengajaran, ilmu pengetahuan dan praktik di bidang Ekonomi, Manajemen, Bisnis dan Akuntansi baik di tingkat lokal, nasional atau internasional dan mendukung visi, misi, tujuan dan strategi. | E62: ='Kertas Kerja'!E62 -> 0 | F62: ='Kertas Kerja'!F62 -> 0 | J62: ='Kertas Kerja'!J62 -> 0
A63: 8.a.1 | B63: PENGABDIAN KEPADA MASYARAKAT Unit Pengelola Program Studi memberikan arah pengembangan pengabdian kepada masyarakat, komitmen untuk mengembangkan pengabdian kepada masyarakat yang bermutu dan unggul, memiliki dampak terhadap pengembangan ekonomi lokal, nasional dan global, sesuai dengan visi, misi dan roadmap pengabdian kepada masyarakat. Program studi/dosen/mahasiswa melakukan kegiatan secara mandiri dan/atau bekerja sama dengan mitra dari kalangan bisnis, profesional, pemerintah, organisasi non-pemerintah (NGO), dan masyarakat umum untuk mengembangkan dan menyampaikan pengetahuan, kebijakan, metoda, sumber daya, sistem, dan berbagai bentuk inovasi yang dapat memberi dampak positif secara langsung maupun tidak langsung pada ilmu pengetahuan, industri/UMKM, lingkungan sosial, ekonomi, dan masyarakat. | C63: Pelaksanaan dan Pendanaan | D63: Unit Pengelola Program Studi mendeskripsikan pedoman pelaksanaan dan roadmap pengabdian kepada masyarakat yang sesuai dengan visi dan misi serta isu-isu ekonomi dan bisnis yang berkembang baik di tingkat lokal, nasional maupun internasional. | E63: ='Kertas Kerja'!E63 -> 0 | F63: ='Kertas Kerja'!F63 -> 0 | G63: ='Kertas Kerja'!G63:G65 -> 0 | H63: ='Kertas Kerja'!H63:H65 -> 0 | J63: ='Kertas Kerja'!J63 -> 0 | K63: ='Kertas Kerja'!K63:K65 -> 0
A64: 8.a.2 | D64: Unit Pengelola Program Studi dan program studi mendeskripsikan sumber pendanaan untuk mendorong dosen agar mengikuti pengabdian kepada masyarakat sesuai dengan visi dan misi serta isu-isu ekonomi dan bisnis yang berkembang baik di tingkat lokal, nasional maupun internasional. | E64: ='Kertas Kerja'!E64 -> 0 | F64: ='Kertas Kerja'!F64 -> 0 | J64: ='Kertas Kerja'!J64 -> 0
A65: 8.a.3 | D65: Unit Pengelola Program Studi memiliki sumber pendanaan dan realisasi yang berasal dari internal, pemerintah, industri dan lembaga lain yang relevan dan mendukung visi, misi, tujuan dan strategi. | E65: ='Kertas Kerja'!E65 -> 0 | F65: ='Kertas Kerja'!F65 -> 0 | J65: ='Kertas Kerja'!J65 -> 0
A66: 8.b.1 | C66: Diseminasi dan Kontribusi hasil | D66: Unit Pengelola Program Studi mendeskripsikan pengabdian kepada masyarakat dosen dan/atau dosen dengan mahasiswa yang sesuai dengan roadmap pengabdian kepada masyarakat dan/atau bermitra dengan pihak eksternal pada tahun berjalan serta didesiminasikan dalam publikasi dan/atau pertemuan ilmiah tingkat lokal, nasional atau internasional dan mendukung visi, misi, tujuan dan strategi. | E66: ='Kertas Kerja'!E66 -> 0 | F66: ='Kertas Kerja'!F66 -> 0 | G66: ='Kertas Kerja'!G66:G67 -> 0 | H66: ='Kertas Kerja'!H66:H67 -> 0 | J66: ='Kertas Kerja'!J66 -> 0 | K66: ='Kertas Kerja'!K66:K67 -> 0
A67: 8.b.2 | D67: Unit Pengelola Program Studi dan program studi mendeskripsikan kontribusi hasil pengabdian kepada masyarakat pada pengembangan pengajaran, ilmu pengetahuan dan praktik di bidang Ekonomi, Manajemen, Bisnis dan Akuntansi baik di tingkat lokal, nasional atau internasional dan mendukung visi, misi, tujuan dan strategi. | E67: ='Kertas Kerja'!E67 -> 0 | F67: ='Kertas Kerja'!F67 -> 0 | J67: ='Kertas Kerja'!J67 -> 0
A68: 9.a.1 | B68: LUARAN DAN CAPAIAN TRIDHARMA Unit Pengelola Program Studi memiliki metoda untuk mengukur tingkat luaran dan capaian serta memiliki proses yang sistematik untuk mengevaluasi keefektifan dan perbaikan berkesinambungan pelaksanaan Tridharma Perguruan Tinggi. Unit Pengelola Program Studi mendorong dosen dan mahasiswa untuk menghasilkan kontribusi intelektual dalam Tridharma Perguruan Tinggi sebagai dasar inovasi yang telah ditinjau dan divalidasi oleh sejawat akademis atau profesional serta didesiminasikan. | C68: Pendidikan dan Pengajaran | D68: Unit Pengelola Program Studi mendeskripsikan profil dan capaian pembelajaran lulusan sesuai dengan yang ditetapkan oleh Unit Pengelola Program Studi dan perguruan tinggi dengan mengacu pada KKNI serta selaras dengan visi keilmuan program studi. | E68: ='Kertas Kerja'!E68 -> 0 | F68: ='Kertas Kerja'!F68 -> 0 | G68: ='Kertas Kerja'!G68:G80 -> 0 | H68: ='Kertas Kerja'!H68:H80 -> 0 | J68: ='Kertas Kerja'!J68 -> 0 | K68: ='Kertas Kerja'!K68:K80 -> 0
A69: 9.a.2 | D69: Unit Pengelola Program Studi mendeskripsikan tingkat pemenuhan target capaian pembelajaran program studi. | E69: ='Kertas Kerja'!E69 -> 0 | F69: ='Kertas Kerja'!F69 -> 0 | J69: ='Kertas Kerja'!J69 -> 0
A70: 9.a.3 | D70: Unit Pengelola Program Studi mendeskripsikan hasil intervensi dan penerapan penyesuaian/peninjauan kurikulum untuk perbaikan kualitas pembelajaran berdasar tingkat pemenuhan capaian pembelajaran dan masukan dari para pemangku kepentingan. | E70: ='Kertas Kerja'!E70 -> 0 | F70: ='Kertas Kerja'!F70 -> 0 | J70: ='Kertas Kerja'!J70 -> 0
A71: 9.a.4 | D71: Unit Pengelola Program Studi mendeskripsikan hasil penelusuran lulusan, umpan balik pengguna lulusan dan persepsi publik terhadap lulusan yang sesuai dengan capaian pembelajaran lulusan. | E71: ='Kertas Kerja'!E71 -> 0 | F71: ='Kertas Kerja'!F71 -> 0 | J71: ='Kertas Kerja'!J71 -> 0
A72: 9.a.5 | D72: Unit Pengelola Program Studi melakukan evaluasi pada proses pembelajaran yang merupakan bagian dari penilaian kinerja dosen. | E72: ='Kertas Kerja'!E72 -> 0 | F72: ='Kertas Kerja'!F72 -> 0 | J72: ='Kertas Kerja'!J72 -> 0
A73: 9.a.6 | D73: Unit Pengelola Program Studi melakukan evaluasi pada proses pembelajaran yang merupakan bagian dari penilaian kinerja tenaga kependidikan. | E73: ='Kertas Kerja'!E73 -> 0 | F73: ='Kertas Kerja'!F73 -> 0 | J73: ='Kertas Kerja'!J73 -> 0
A74: 9.a.7 | D74: Unit Pengelola Program Studi mendeskripsikan kontribusi intelektual yang ditunjukkan dengan rekognisi pada bidang pendidikan dan pengajaran yang bermanfaat untuk akademik, profesional dan sosial masyarakat sesuai dengan visi, misi, tujuan dan strategi. | E74: ='Kertas Kerja'!E74 -> 0 | F74: ='Kertas Kerja'!F74 -> 0 | J74: ='Kertas Kerja'!J74 -> 0
A75: 9.a.8 | D75: Unit Pengelola Program Studi mendeskripsikan prestasi akademik dan non-akademik yang sesuai dengan Standar Perguruan Tinggi atau Unit Pengelola Program Studi dan selaras dengan visi, misi, tujuan dan strategi. | E75: ='Kertas Kerja'!E75 -> 0 | F75: ='Kertas Kerja'!F75 -> 0 | J75: ='Kertas Kerja'!J75 -> 0
A76: 9.a.9 | D76: Unit Pengelola Program Studi mendeskripsikan rata-rata lulusan dengan masa studi yang sesuai dengan dengan Standar Perguruan Tinggi atau Unit Pengelola Program Studi dan selaras dengan visi, misi, tujuan dan strategi. | E76: ='Kertas Kerja'!E76 -> 0 | F76: ='Kertas Kerja'!F76 -> 0 | J76: ='Kertas Kerja'!J76 -> 0
A77: 9.a.10 | D77: Unit Pengelola Program Studi mendeskripsikan data lulusan yang berhasil memasuki dunia kerja dan bisnis yang sesuai dengan Standar Perguruan Tinggi atau Unit Pengelola Program Studi dan selaras dengan visi, misi, tujuan dan strategi. | E77: ='Kertas Kerja'!E77 -> 0 | F77: ='Kertas Kerja'!F77 -> 0 | J77: ='Kertas Kerja'!J77 -> 0
A78: 9.a.11 | D78: Unit Pengelola Program Studi mendeskripsikan lulusan yang bekerja selaras dengan bidangnya yang sesuai dengan Standar Perguruan Tinggi atau Unit Pengelola Program Studi dan selaras dengan visi, misi, tujuan dan strategi. | E78: ='Kertas Kerja'!E78 -> 0 | F78: ='Kertas Kerja'!F78 -> 0 | J78: ='Kertas Kerja'!J78 -> 0
A79: 9.a.12 | D79: Unit Pengelola Program Studi mendeskripsikan lulusan dengan jangkauan operasi kerja yang sesuai dengan Standar Perguruan Tinggi atau Unit Pengelola Program Studi dan selaras dengan visi, misi, tujuan dan strategi. | E79: ='Kertas Kerja'!E79 -> 0 | F79: ='Kertas Kerja'!F79 -> 0 | J79: ='Kertas Kerja'!J79 -> 0
A80: 9.a.13 | D80: Unit Pengelola Program Studi melakukan survei kepuasan pengguna akan kemampuan kerja lulusan dengan hasil yang sesuai dengan Standar Perguruan Tinggi atau Unit Pengelola Program Studi dan selaras dengan visi, misi, tujuan dan strategi. | E80: ='Kertas Kerja'!E80 -> 0 | F80: ='Kertas Kerja'!F80 -> 0 | J80: ='Kertas Kerja'!J80 -> 0
A81: 9.b.1 | C81: Penelitian | D81: Unit Pengelola Program Studi mendeskripsikan kontribusi intelektual yang ditunjukkan dengan rekognisi pada bidang pengabdian masyarakat yang bermanfaat untuk akademik, profesional dan sosial masyarakat sesuai dengan visi dan misi Unit Pengelola Program Studi. | E81: ='Kertas Kerja'!E81 -> 0 | F81: ='Kertas Kerja'!F81 -> 0 | G81: ='Kertas Kerja'!G81:G83 -> 0 | H81: ='Kertas Kerja'!H81:H83 -> 0 | J81: ='Kertas Kerja'!J81 -> 0 | K81: ='Kertas Kerja'!K81:K83 -> 0
A82: 9.b.2 | D82: Unit Pengelola Program Studi melakukan evaluasi proses pengabdian masyarakat yang merupakan bagian dari penilaian kinerja dosen. | E82: ='Kertas Kerja'!E82 -> 0 | F82: ='Kertas Kerja'!F82 -> 0 | J82: ='Kertas Kerja'!J82 -> 0
A83: 9.b.3 | D83: Unit Pengelola Program Studi mendeskripsikan pedoman yang mengatur kontribusi hasil luaran pengabdian kepada masyarakat untuk pengembangan ilmu pengetahuan, praktek dan profesional. | E83: ='Kertas Kerja'!E83 -> 0 | F83: ='Kertas Kerja'!F83 -> 0 | J83: ='Kertas Kerja'!J83 -> 0
A84: 9.c.1 | C84: Pengabdian kepada Masyarakat | D84: Unit Pengelola Program Studi mendeskripsikan kontribusi intelektual yang ditunjukkan dengan rekognisi pada bidang pengabdian masyarakat yang bermanfaat untuk akademik, profesional dan sosial masyarakat sesuai dengan visi dan misi Unit Pengelola Program Studi. | E84: ='Kertas Kerja'!E84 -> 0 | F84: ='Kertas Kerja'!F84 -> 0 | G84: ='Kertas Kerja'!G84:G86 -> 0 | H84: ='Kertas Kerja'!H84:H86 -> 0 | J84: ='Kertas Kerja'!J84 -> 0 | K84: ='Kertas Kerja'!K84:K86 -> 0
A85: 9.c.2 | D85: Unit Pengelola Program Studi melakukan evaluasi proses pengabdian masyarakat yang merupakan bagian dari penilaian kinerja dosen. | E85: ='Kertas Kerja'!E85 -> 0 | F85: ='Kertas Kerja'!F85 -> 0 | J85: ='Kertas Kerja'!J85 -> 0
A86: 9.c.3 | D86: Unit Pengelola Program Studi mendeskripsikan pedoman yang mengatur kontribusi hasil luaran pengabdian kepada masyarakat untuk pengembangan ilmu pengetahuan, praktek dan profesional. | E86: ='Kertas Kerja'!E86 -> 0 | F86: ='Kertas Kerja'!F86 -> 0 | J86: ='Kertas Kerja'!J86 -> 0
B88: Integrated Evaluation : | C88: ='Kertas Kerja'!C88:K88 -> 0
B89: Rekomendasi Hasil AK :
B92: (Kota, Tanggal)
B94: Menyetujui,
B101: (….................................)
B102: Asesor
